BEGIN:VCALENDAR
VERSION:2.0
PRODID:-//eventon.com NONSGML v1.0//EN
BEGIN:VEVENT
UID:69e59264267e3
DTSTAMP:20260420T044140
DTSTART:20240623T170000Z
DTEND:20240623T190000Z
TZID:Pacific/Midway
LOCATION:
SUMMARY:MONGUILHEM
DESCRIPTION: MONGUILHEM\nhttps://www.courselandaise.fr/events/monguilhem-2/
URL:https://www.courselandaise.fr/events/monguilhem-2/
END:VEVENT
END:VCALENDAR