BEGIN:VCALENDAR
VERSION:2.0
PRODID:-//eventon.com NONSGML v1.0//EN
BEGIN:VEVENT
UID:69eae36c6ec0f
DTSTAMP:20260424T052844
DTSTART:20250824T173000Z
DTEND:20250824T193000Z
TZID:Pacific/Midway
LOCATION:
SUMMARY:CAZERES SUR ADOUR
DESCRIPTION: CAZERES SUR ADOUR\nhttps://www.courselandaise.fr/events/cazeres-sur-adour-2/
URL:https://www.courselandaise.fr/events/cazeres-sur-adour-2/
END:VEVENT
END:VCALENDAR