BEGIN:VCALENDAR
VERSION:2.0
PRODID:-//eventon.com NONSGML v1.0//EN
BEGIN:VEVENT
UID:69e5e3ae54481
DTSTAMP:20260420T102830
DTSTART:20251109T153000Z
DTEND:20251109T173000Z
TZID:Pacific/Midway
LOCATION:
SUMMARY:URGONS
DESCRIPTION: URGONS\nhttps://www.courselandaise.fr/events/urgons-2/
URL:https://www.courselandaise.fr/events/urgons-2/
END:VEVENT
END:VCALENDAR