BEGIN:VCALENDAR
VERSION:2.0
PRODID:-//eventon.com NONSGML v1.0//EN
BEGIN:VEVENT
UID:69e5e36a3d418
DTSTAMP:20260420T102722
DTSTART:20250529T163000Z
DTEND:20250529T183000Z
TZID:Pacific/Midway
LOCATION:
SUMMARY:BASCONS
DESCRIPTION: BASCONS\nhttps://www.courselandaise.fr/events/bascons-6/
URL:https://www.courselandaise.fr/events/bascons-6/
END:VEVENT
END:VCALENDAR