BEGIN:VCALENDAR
VERSION:2.0
PRODID:-//eventon.com NONSGML v1.0//EN
BEGIN:VEVENT
UID:69e9dc12119b4
DTSTAMP:20260423T104506
DTSTART:20250629T170000Z
DTEND:20250629T190000Z
TZID:Pacific/Midway
LOCATION:
SUMMARY:MEZIN
DESCRIPTION: MEZIN\nhttps://www.courselandaise.fr/events/mezin-3/
URL:https://www.courselandaise.fr/events/mezin-3/
END:VEVENT
END:VCALENDAR