BEGIN:VCALENDAR
VERSION:2.0
PRODID:-//eventon.com NONSGML v1.0//EN
BEGIN:VEVENT
UID:69e9dc5070ad2
DTSTAMP:20260423T104608
DTSTART:20250729T210000Z
DTEND:20250729T220000Z
TZID:Pacific/Midway
LOCATION:
SUMMARY:MEES (EL CAMPO)
DESCRIPTION: MEES (EL CAMPO)\nhttps://www.courselandaise.fr/events/mees-el-campo-15/
URL:https://www.courselandaise.fr/events/mees-el-campo-15/
END:VEVENT
END:VCALENDAR