BEGIN:VCALENDAR
VERSION:2.0
PRODID:-//eventon.com NONSGML v1.0//EN
BEGIN:VEVENT
UID:69e5e3af6f7cf
DTSTAMP:20260420T102831
DTSTART:20250805T210000Z
DTEND:20250805T220000Z
TZID:Pacific/Midway
LOCATION:
SUMMARY:MEES (EL CAMPO)
DESCRIPTION: MEES (EL CAMPO)\nhttps://www.courselandaise.fr/events/mees-el-campo-16/
URL:https://www.courselandaise.fr/events/mees-el-campo-16/
END:VEVENT
END:VCALENDAR