BEGIN:VCALENDAR
VERSION:2.0
PRODID:-//eventon.com NONSGML v1.0//EN
BEGIN:VEVENT
UID:69e5e37320750
DTSTAMP:20260420T102731
DTSTART:20250808T213000Z
DTEND:20250808T233000Z
TZID:Pacific/Midway
LOCATION:
SUMMARY:SOUSTONS
DESCRIPTION: SOUSTONS\nhttps://www.courselandaise.fr/events/soustons-14/
URL:https://www.courselandaise.fr/events/soustons-14/
END:VEVENT
END:VCALENDAR