BEGIN:VCALENDAR
VERSION:2.0
PRODID:-//eventon.com NONSGML v1.0//EN
BEGIN:VEVENT
UID:69e9dca91cacc
DTSTAMP:20260423T104737
DTSTART:20250706T150000Z
DTEND:20250706T170000Z
TZID:Pacific/Midway
LOCATION:
SUMMARY:SAINT-AVIT (63)
DESCRIPTION: SAINT-AVIT (63)\nhttps://www.courselandaise.fr/events/saint-avit-63/
URL:https://www.courselandaise.fr/events/saint-avit-63/
END:VEVENT
END:VCALENDAR