BEGIN:VCALENDAR
VERSION:2.0
PRODID:-//eventon.com NONSGML v1.0//EN
BEGIN:VEVENT
UID:69e9dc3aa6fbc
DTSTAMP:20260423T104546
DTSTART:20250720T170000Z
DTEND:20250720T190000Z
TZID:Pacific/Midway
LOCATION:
SUMMARY:CASTELNAU D'AUZAN LABARRERE
DESCRIPTION: CASTELNAU D'AUZAN LABARRERE\nhttps://www.courselandaise.fr/events/castelnau-dauzan-labarrere/
URL:https://www.courselandaise.fr/events/castelnau-dauzan-labarrere/
END:VEVENT
END:VCALENDAR