BEGIN:VCALENDAR
VERSION:2.0
PRODID:-//eventon.com NONSGML v1.0//EN
BEGIN:VEVENT
UID:69e5e3c9a0461
DTSTAMP:20260420T102857
DTSTART:20251007T153000Z
DTEND:20251007T173000Z
TZID:Pacific/Midway
LOCATION:
SUMMARY:CASTELNAU CHALOSSE (Ganaderia de la Mecque)
DESCRIPTION: CASTELNAU CHALOSSE (Ganaderia de la Mecque)\nhttps://www.courselandaise.fr/events/castelnau-chalosse-ganaderia-de-la-mecque-9/
URL:https://www.courselandaise.fr/events/castelnau-chalosse-ganaderia-de-la-mecque-9/
END:VEVENT
END:VCALENDAR