BEGIN:VCALENDAR
VERSION:2.0
PRODID:-//eventon.com NONSGML v1.0//EN
BEGIN:VEVENT
UID:69e5e369c9b08
DTSTAMP:20260420T102721
DTSTART:20260801T170000Z
DTEND:20260801T190000Z
TZID:Pacific/Midway
LOCATION:
SUMMARY:BEGAAR
DESCRIPTION: BEGAAR\nhttps://www.courselandaise.fr/events/begaar-10/
URL:https://www.courselandaise.fr/events/begaar-10/
END:VEVENT
END:VCALENDAR