BEGIN:VCALENDAR
VERSION:2.0
PRODID:-//eventon.com NONSGML v1.0//EN
BEGIN:VEVENT
UID:69e9dc0b5c3bd
DTSTAMP:20260423T104459
DTSTART:20260910T210000Z
DTEND:20260910T230000Z
TZID:Pacific/Midway
LOCATION:
SUMMARY:VIEUX BOUCAU
DESCRIPTION: VIEUX BOUCAU\nhttps://www.courselandaise.fr/events/vieux-boucau-45/
URL:https://www.courselandaise.fr/events/vieux-boucau-45/
END:VEVENT
END:VCALENDAR