BEGIN:VCALENDAR
VERSION:2.0
PRODID:-//eventon.com NONSGML v1.0//EN
BEGIN:VEVENT
UID:69e5e34df01d2
DTSTAMP:20260420T102653
DTSTART:20260803T213000Z
DTEND:20260803T233000Z
TZID:Pacific/Midway
LOCATION:
SUMMARY:VILLENEUVE DE MARSAN
DESCRIPTION: VILLENEUVE DE MARSAN\nhttps://www.courselandaise.fr/events/villeneuve-de-marsan-11/
URL:https://www.courselandaise.fr/events/villeneuve-de-marsan-11/
END:VEVENT
END:VCALENDAR