BEGIN:VCALENDAR
VERSION:2.0
PRODID:-//eventon.com NONSGML v1.0//EN
BEGIN:VEVENT
UID:69e5e3b072581
DTSTAMP:20260420T102832
DTSTART:20260803T210000Z
DTEND:20260803T230000Z
TZID:Pacific/Midway
LOCATION:
SUMMARY:RISCLE
DESCRIPTION: RISCLE\nhttps://www.courselandaise.fr/events/riscle-13/
URL:https://www.courselandaise.fr/events/riscle-13/
END:VEVENT
END:VCALENDAR