BEGIN:VCALENDAR
VERSION:2.0
PRODID:-//eventon.com NONSGML v1.0//EN
BEGIN:VEVENT
UID:69e5e3cacbd51
DTSTAMP:20260420T102858
DTSTART:20260919T163000Z
DTEND:20260919T183000Z
TZID:Pacific/Midway
LOCATION:
SUMMARY:CAZAUBON
DESCRIPTION: CAZAUBON\nhttps://www.courselandaise.fr/events/cazaubon-9/
URL:https://www.courselandaise.fr/events/cazaubon-9/
END:VEVENT
END:VCALENDAR