BEGIN:VCALENDAR
VERSION:2.0
PRODID:-//eventon.com NONSGML v1.0//EN
BEGIN:VEVENT
UID:69e9dcbd2a8f5
DTSTAMP:20260423T104757
DTSTART:20260919T170000Z
DTEND:20260919T190000Z
TZID:Europe/Paris
LOCATION:
SUMMARY:HORSARRIEU
DESCRIPTION: HORSARRIEU\nhttps://www.courselandaise.fr/events/horsarrieu-7/
URL:https://www.courselandaise.fr/events/horsarrieu-7/
END:VEVENT
END:VCALENDAR