BEGIN:VCALENDAR
VERSION:2.0
PRODID:-//eventon.com NONSGML v1.0//EN
BEGIN:VEVENT
UID:69e5e3ae65ea5
DTSTAMP:20260420T102830
DTSTART:20260731T213000Z
DTEND:20260731T233000Z
TZID:Pacific/Midway
LOCATION:
SUMMARY:SAINT VINCENT DE TYROSSE
DESCRIPTION: SAINT VINCENT DE TYROSSE\nhttps://www.courselandaise.fr/events/saint-vincent-de-tyrosse-7/
URL:https://www.courselandaise.fr/events/saint-vincent-de-tyrosse-7/
END:VEVENT
END:VCALENDAR