BEGIN:VCALENDAR
VERSION:2.0
PRODID:-//eventon.com NONSGML v1.0//EN
BEGIN:VEVENT
UID:69e5e37320df3
DTSTAMP:20260420T102731
DTSTART:20260719T170000Z
DTEND:20260719T190000Z
TZID:Pacific/Midway
LOCATION:
SUMMARY:AMOU
DESCRIPTION: AMOU\nhttps://www.courselandaise.fr/events/amou-7/
URL:https://www.courselandaise.fr/events/amou-7/
END:VEVENT
END:VCALENDAR