BEGIN:VCALENDAR
VERSION:2.0
PRODID:-//eventon.com NONSGML v1.0//EN
BEGIN:VEVENT
UID:69e771339e529
DTSTAMP:20260421T144435
DTSTART:20260620T173000Z
DTEND:20260620T193000Z
TZID:Pacific/Midway
LOCATION:
SUMMARY:MIMBASTE
DESCRIPTION: MIMBASTE\nhttps://www.courselandaise.fr/events/mimbaste-3/
URL:https://www.courselandaise.fr/events/mimbaste-3/
END:VEVENT
END:VCALENDAR