BEGIN:VCALENDAR
VERSION:2.0
PRODID:-//eventon.com NONSGML v1.0//EN
BEGIN:VEVENT
UID:69e9dbdd98d94
DTSTAMP:20260423T104413
DTSTART:20260820T213000Z
DTEND:20260820T233000Z
TZID:Pacific/Midway
LOCATION:
SUMMARY:MIMIZAN
DESCRIPTION: MIMIZAN\nhttps://www.courselandaise.fr/events/mimizan-34/
URL:https://www.courselandaise.fr/events/mimizan-34/
END:VEVENT
END:VCALENDAR