BEGIN:VCALENDAR
VERSION:2.0
PRODID:-//eventon.com NONSGML v1.0//EN
BEGIN:VEVENT
UID:69e9dbc35e335
DTSTAMP:20260423T104347
DTSTART:20260708T213000Z
DTEND:20260708T233000Z
TZID:Pacific/Midway
LOCATION:
SUMMARY:PARENTIS EN BORN
DESCRIPTION: PARENTIS EN BORN\nhttps://www.courselandaise.fr/events/parentis-en-born-33/
URL:https://www.courselandaise.fr/events/parentis-en-born-33/
END:VEVENT
END:VCALENDAR