BEGIN:VCALENDAR
VERSION:2.0
PRODID:-//eventon.com NONSGML v1.0//EN
BEGIN:VEVENT
UID:69ea4a7997378
DTSTAMP:20260423T183609
DTSTART:20260517T163000Z
DTEND:20260517T183000Z
TZID:Pacific/Midway
LOCATION:
SUMMARY:MAZEROLLES
DESCRIPTION: MAZEROLLES\nhttps://www.courselandaise.fr/events/mazerolles-3/
URL:https://www.courselandaise.fr/events/mazerolles-3/
END:VEVENT
END:VCALENDAR