BEGIN:VCALENDAR
VERSION:2.0
PRODID:-//eventon.com NONSGML v1.0//EN
BEGIN:VEVENT
UID:69e5e34c84aea
DTSTAMP:20260420T102652
DTSTART:20240713T180000Z
DTEND:20240713T200000Z
TZID:Pacific/Midway
LOCATION:
SUMMARY:AUDIGNON
DESCRIPTION: AUDIGNON\nhttps://www.courselandaise.fr/events/audignon/
URL:https://www.courselandaise.fr/events/audignon/
END:VEVENT
END:VCALENDAR