BEGIN:VCALENDAR
VERSION:2.0
PRODID:-//eventon.com NONSGML v1.0//EN
BEGIN:VEVENT
UID:69e4cf176a1e9
DTSTAMP:20260419T144823
DTSTART:20240715T210000Z
DTEND:20240715T230000Z
TZID:Pacific/Midway
LOCATION:
SUMMARY:ARZACQ
DESCRIPTION: \nhttps://www.courselandaise.fr/events/arzacq-2/
URL:https://www.courselandaise.fr/events/arzacq-2/
END:VEVENT
END:VCALENDAR