BEGIN:VCALENDAR
VERSION:2.0
PRODID:-//eventon.com NONSGML v1.0//EN
BEGIN:VEVENT
UID:69e5e32a37ed6
DTSTAMP:20260420T102618
DTSTART:20240825T170000Z
DTEND:20240825T190000Z
TZID:Pacific/Midway
LOCATION:
SUMMARY:LARRIVIERE SAINT SAVIN
DESCRIPTION: LARRIVIERE SAINT SAVIN\nhttps://www.courselandaise.fr/events/larriviere-saint-savin/
URL:https://www.courselandaise.fr/events/larriviere-saint-savin/
END:VEVENT
END:VCALENDAR