BEGIN:VCALENDAR
VERSION:2.0
PRODID:-//eventon.com NONSGML v1.0//EN
BEGIN:VEVENT
UID:69e68c4fed67e
DTSTAMP:20260420T222759
DTSTART:20251004T160000Z
DTEND:20251004T180000Z
TZID:Pacific/Midway
LOCATION:
SUMMARY:BAHUS SOUBIRAN
DESCRIPTION: BAHUS SOUBIRAN\nhttps://www.courselandaise.fr/events/bahus-soubiran/
URL:https://www.courselandaise.fr/events/bahus-soubiran/
END:VEVENT
END:VCALENDAR