BEGIN:VCALENDAR
VERSION:2.0
PRODID:-//eventon.com NONSGML v1.0//EN
BEGIN:VEVENT
UID:69e5e38949df0
DTSTAMP:20260420T102753
DTSTART:20240531T193000Z
DTEND:20240531T213000Z
TZID:Pacific/Midway
LOCATION:
SUMMARY:NOGARO
DESCRIPTION: NOGARO\nhttps://www.courselandaise.fr/events/nogaro-7/
URL:https://www.courselandaise.fr/events/nogaro-7/
END:VEVENT
END:VCALENDAR