BEGIN:VCALENDAR
VERSION:2.0
PRODID:-//eventon.com NONSGML v1.0//EN
BEGIN:VEVENT
UID:69e61ba23481a
DTSTAMP:20260420T142714
DTSTART:20240520T163000Z
DTEND:20240520T190000Z
TZID:Pacific/Midway
LOCATION:
SUMMARY:SAMADET
DESCRIPTION: SAMADET\nhttps://www.courselandaise.fr/events/samadet-6/
URL:https://www.courselandaise.fr/events/samadet-6/
END:VEVENT
END:VCALENDAR