BEGIN:VCALENDAR
VERSION:2.0
PRODID:-//eventon.com NONSGML v1.0//EN
BEGIN:VEVENT
UID:69e9dbf1413db
DTSTAMP:20260423T104433
DTSTART:20240629T170000Z
DTEND:20240629T190000Z
TZID:Europe/Paris
LOCATION:
SUMMARY:Sabres
DESCRIPTION: Sabres\nhttps://www.courselandaise.fr/events/sabres-2/
URL:https://www.courselandaise.fr/events/sabres-2/
END:VEVENT
END:VCALENDAR