BEGIN:VCALENDAR
VERSION:2.0
PRODID:-//eventon.com NONSGML v1.0//EN
BEGIN:VEVENT
UID:69e9dc71dc76b
DTSTAMP:20260423T104641
DTSTART:20240630T183000Z
DTEND:20240630T203000Z
TZID:Pacific/Midway
LOCATION:
SUMMARY:SOUPROSSE
DESCRIPTION: SOUPROSSE\nhttps://www.courselandaise.fr/events/souprosse-5/
URL:https://www.courselandaise.fr/events/souprosse-5/
END:VEVENT
END:VCALENDAR