BEGIN:VCALENDAR
VERSION:2.0
PRODID:-//eventon.com NONSGML v1.0//EN
BEGIN:VEVENT
UID:69e61b6de8c5a
DTSTAMP:20260420T142621
DTSTART:20240630T123000Z
DTEND:20240630T133000Z
TZID:Pacific/Midway
LOCATION:
SUMMARY:MANT
DESCRIPTION: MANT\nhttps://www.courselandaise.fr/events/mant-5/
URL:https://www.courselandaise.fr/events/mant-5/
END:VEVENT
END:VCALENDAR