BEGIN:VCALENDAR
VERSION:2.0
PRODID:-//eventon.com NONSGML v1.0//EN
BEGIN:VEVENT
UID:69ed7dde387aa
DTSTAMP:20260426T045214
DTSTART:20250706T173000Z
DTEND:20250706T193000Z
TZID:Pacific/Midway
LOCATION:
SUMMARY:BROCAS
DESCRIPTION: BROCAS\nhttps://www.courselandaise.fr/events/brocas-2/
URL:https://www.courselandaise.fr/events/brocas-2/
END:VEVENT
END:VCALENDAR