BEGIN:VCALENDAR
VERSION:2.0
PRODID:-//eventon.com NONSGML v1.0//EN
BEGIN:VEVENT
UID:69e5e32917c5e
DTSTAMP:20260420T102617
DTSTART:20240802T210000Z
DTEND:20240802T230000Z
TZID:Pacific/Midway
LOCATION:
SUMMARY:CASTELJALOUX
DESCRIPTION: CASTELJALOUX\nhttps://www.courselandaise.fr/events/casteljaloux-2/
URL:https://www.courselandaise.fr/events/casteljaloux-2/
END:VEVENT
END:VCALENDAR