BEGIN:VCALENDAR
VERSION:2.0
PRODID:-//eventon.com NONSGML v1.0//EN
BEGIN:VEVENT
UID:69e5eb4ecd840
DTSTAMP:20260420T110102
DTSTART:20240808T210000Z
DTEND:20240808T230000Z
TZID:Pacific/Midway
LOCATION:
SUMMARY:SAINT SEVER
DESCRIPTION: SAINT SEVER\nhttps://www.courselandaise.fr/events/saint-sever-8/
URL:https://www.courselandaise.fr/events/saint-sever-8/
END:VEVENT
END:VCALENDAR