BEGIN:VCALENDAR
VERSION:2.0
PRODID:-//eventon.com NONSGML v1.0//EN
BEGIN:VEVENT
UID:69e5e3894998d
DTSTAMP:20260420T102753
DTSTART:20240819T211500Z
DTEND:20240819T231500Z
TZID:Pacific/Midway
LOCATION:
SUMMARY:ONDRES
DESCRIPTION: ONDRES\nhttps://www.courselandaise.fr/events/ondres-7/
URL:https://www.courselandaise.fr/events/ondres-7/
END:VEVENT
END:VCALENDAR