BEGIN:VCALENDAR
VERSION:2.0
PRODID:-//eventon.com NONSGML v1.0//EN
BEGIN:VEVENT
UID:69e9c1235a0c9
DTSTAMP:20260423T085011
DTSTART:20240807T211500Z
DTEND:20240807T231500Z
TZID:Pacific/Midway
LOCATION:
SUMMARY:SAINT PEE SUR NIVELLE
DESCRIPTION: SAINT PEE SUR NIVELLE\nhttps://www.courselandaise.fr/events/saint-pee-sur-nivelle-4/
URL:https://www.courselandaise.fr/events/saint-pee-sur-nivelle-4/
END:VEVENT
END:VCALENDAR