BEGIN:VCALENDAR
VERSION:2.0
PRODID:-//eventon.com NONSGML v1.0//EN
BEGIN:VEVENT
UID:69e8a3ff3e3ed
DTSTAMP:20260422T123335
DTSTART:20240815T211500Z
DTEND:20240815T231500Z
TZID:Pacific/Midway
LOCATION:
SUMMARY:BIDART
DESCRIPTION: BIDART\nhttps://www.courselandaise.fr/events/bidart-6/
URL:https://www.courselandaise.fr/events/bidart-6/
END:VEVENT
END:VCALENDAR